BEGIN:VCALENDAR
VERSION:2.0
PRODID:-//The Bakers Junction - A Marketplace for the Baking Industry - ECPv6.15.20//NONSGML v1.0//EN
CALSCALE:GREGORIAN
METHOD:PUBLISH
X-WR-CALNAME:The Bakers Junction - A Marketplace for the Baking Industry
X-ORIGINAL-URL:https://thebakersjunction.com
X-WR-CALDESC:Events for The Bakers Junction - A Marketplace for the Baking Industry
REFRESH-INTERVAL;VALUE=DURATION:PT1H
X-Robots-Tag:noindex
X-PUBLISHED-TTL:PT1H
BEGIN:VTIMEZONE
TZID:Asia/Kolkata
BEGIN:STANDARD
TZOFFSETFROM:+0530
TZOFFSETTO:+0530
TZNAME:IST
DTSTART:20230101T000000
END:STANDARD
END:VTIMEZONE
BEGIN:VEVENT
DTSTART;TZID=Asia/Kolkata:20241023T143000
DTEND;TZID=Asia/Kolkata:20241023T180000
DTSTAMP:20260423T002841
CREATED:20240914T091205Z
LAST-MODIFIED:20241130T092325Z
UID:7173-1729693800-1729706400@thebakersjunction.com
SUMMARY:Eggless Tart & Quiche
DESCRIPTION:October 23\, 2024 2:30 PM - 6:00 PM      \n\n\nPlease log in to your account to submit your enquiry.
URL:https://thebakersjunction.com/event/eggless-tart-quiche/
LOCATION:25- Girdhar Niwas\, 5th Floor\, Colaba Causeway\, Opposite kailash parbat Restaurant\, Mumbai\, Mumbai\, Maharashtra\, India
CATEGORIES:Tarts and Pies
ATTACH;FMTTYPE=image/png:https://thebakersjunction.com/wp-content/uploads/2024/09/2-1.png
ORGANIZER;CN="Gourmet Studio":MAILTO:jyotich2@gmail.com
END:VEVENT
BEGIN:VEVENT
DTSTART;TZID=Asia/Kolkata:20240727T140000
DTEND;TZID=Asia/Kolkata:20240727T180000
DTSTAMP:20260423T002841
CREATED:20240630T114634Z
LAST-MODIFIED:20240630T114636Z
UID:6956-1722088800-1722103200@thebakersjunction.com
SUMMARY:Tarts & Quiche
DESCRIPTION:October 23\, 2024 2:30 PM - 6:00 PM      \n\n\nPlease log in to your account to submit your enquiry.
URL:https://thebakersjunction.com/event/tarts-quiche-2/
LOCATION:25- Girdhar Niwas\, 5th Floor\, Colaba Causeway\, Opposite kailash parbat Restaurant\, Mumbai\, Mumbai\, Maharashtra\, India
CATEGORIES:Tarts and Pies
ATTACH;FMTTYPE=image/png:https://thebakersjunction.com/wp-content/uploads/2024/06/5.png
ORGANIZER;CN="Gourmet Studio":MAILTO:jyotich2@gmail.com
END:VEVENT
END:VCALENDAR