BEGIN:VCALENDAR
VERSION:2.0
PRODID:-//The Bakers Junction - A Marketplace for the Baking Industry - ECPv6.15.20//NONSGML v1.0//EN
CALSCALE:GREGORIAN
METHOD:PUBLISH
X-WR-CALNAME:The Bakers Junction - A Marketplace for the Baking Industry
X-ORIGINAL-URL:https://thebakersjunction.com
X-WR-CALDESC:Events for The Bakers Junction - A Marketplace for the Baking Industry
REFRESH-INTERVAL;VALUE=DURATION:PT1H
X-Robots-Tag:noindex
X-PUBLISHED-TTL:PT1H
BEGIN:VTIMEZONE
TZID:Asia/Kolkata
BEGIN:STANDARD
TZOFFSETFROM:+0530
TZOFFSETTO:+0530
TZNAME:IST
DTSTART:20230101T000000
END:STANDARD
END:VTIMEZONE
BEGIN:VEVENT
DTSTART;TZID=Asia/Kolkata:20250104T140000
DTEND;TZID=Asia/Kolkata:20250104T180000
DTSTAMP:20260421T000929
CREATED:20250102T151004Z
LAST-MODIFIED:20250102T151005Z
UID:7407-1735999200-1736013600@thebakersjunction.com
SUMMARY:Eggless CupCakes
DESCRIPTION:January 4\, 2025 2:00 PM - 6:00 PM      \n\n\nPlease log in to your account to submit your enquiry.
URL:https://thebakersjunction.com/event/eggless-cupcakes-2/
LOCATION:25- Girdhar Niwas\, 5th Floor\, Colaba Causeway\, Opposite kailash parbat Restaurant\, Mumbai\, Mumbai\, Maharashtra\, India
CATEGORIES:Cup Cakes & Muffins
ATTACH;FMTTYPE=image/png:https://thebakersjunction.com/wp-content/uploads/2025/01/1.png
ORGANIZER;CN="Gourmet Studio":MAILTO:jyotich2@gmail.com
END:VEVENT
BEGIN:VEVENT
DTSTART;TZID=Asia/Kolkata:20241211T140000
DTEND;TZID=Asia/Kolkata:20241211T180000
DTSTAMP:20260421T000929
CREATED:20241130T095532Z
LAST-MODIFIED:20241130T095533Z
UID:7336-1733925600-1733940000@thebakersjunction.com
SUMMARY:Eggless Cupcakes
DESCRIPTION:January 4\, 2025 2:00 PM - 6:00 PM      \n\n\nPlease log in to your account to submit your enquiry.
URL:https://thebakersjunction.com/event/eggless-cupcakes/
LOCATION:25- Girdhar Niwas\, 5th Floor\, Colaba Causeway\, Opposite kailash parbat Restaurant\, Mumbai\, Mumbai\, Maharashtra\, India
CATEGORIES:Cup Cakes & Muffins
ATTACH;FMTTYPE=image/png:https://thebakersjunction.com/wp-content/uploads/2024/11/2-1.png
ORGANIZER;CN="Gourmet Studio":MAILTO:jyotich2@gmail.com
END:VEVENT
BEGIN:VEVENT
DTSTART;TZID=Asia/Kolkata:20240831T140000
DTEND;TZID=Asia/Kolkata:20240831T180000
DTSTAMP:20260421T000929
CREATED:20240801T145430Z
LAST-MODIFIED:20240801T150035Z
UID:7025-1725112800-1725127200@thebakersjunction.com
SUMMARY:Cupcakes Workshop
DESCRIPTION:January 4\, 2025 2:00 PM - 6:00 PM      \n\n\nPlease log in to your account to submit your enquiry.
URL:https://thebakersjunction.com/event/cupcakes-workshop-2/
LOCATION:25- Girdhar Niwas\, 5th Floor\, Colaba Causeway\, Opposite kailash parbat Restaurant\, Mumbai\, Mumbai\, Maharashtra\, India
CATEGORIES:Cup Cakes & Muffins
ATTACH;FMTTYPE=image/png:https://thebakersjunction.com/wp-content/uploads/2024/08/cupcake-31-aug.png
ORGANIZER;CN="Gourmet Studio":MAILTO:jyotich2@gmail.com
END:VEVENT
BEGIN:VEVENT
DTSTART;TZID=Asia/Kolkata:20240724T140000
DTEND;TZID=Asia/Kolkata:20240724T180000
DTSTAMP:20260421T000929
CREATED:20240630T115352Z
LAST-MODIFIED:20240630T115354Z
UID:6959-1721829600-1721844000@thebakersjunction.com
SUMMARY:Cupcake Workshop
DESCRIPTION:January 4\, 2025 2:00 PM - 6:00 PM      \n\n\nPlease log in to your account to submit your enquiry.
URL:https://thebakersjunction.com/event/cupcake-workshop/
LOCATION:25- Girdhar Niwas\, 5th Floor\, Colaba Causeway\, Opposite kailash parbat Restaurant\, Mumbai\, Mumbai\, Maharashtra\, India
CATEGORIES:Cup Cakes & Muffins
ATTACH;FMTTYPE=image/png:https://thebakersjunction.com/wp-content/uploads/2024/06/4.png
ORGANIZER;CN="Gourmet Studio":MAILTO:jyotich2@gmail.com
END:VEVENT
BEGIN:VEVENT
DTSTART;TZID=Asia/Kolkata:20240622T140000
DTEND;TZID=Asia/Kolkata:20240622T180000
DTSTAMP:20260421T000929
CREATED:20240528T105800Z
LAST-MODIFIED:20240528T105804Z
UID:6570-1719064800-1719079200@thebakersjunction.com
SUMMARY:Cupcakes Workshop
DESCRIPTION:January 4\, 2025 2:00 PM - 6:00 PM      \n\n\nPlease log in to your account to submit your enquiry.
URL:https://thebakersjunction.com/event/cupcakes-workshop/
LOCATION:25- Girdhar Niwas\, 5th Floor\, Colaba Causeway\, Opposite kailash parbat Restaurant\, Mumbai\, Mumbai\, Maharashtra\, India
CATEGORIES:Cup Cakes & Muffins
ATTACH;FMTTYPE=image/png:https://thebakersjunction.com/wp-content/uploads/2024/05/4.png
ORGANIZER;CN="Gourmet Studio":MAILTO:jyotich2@gmail.com
END:VEVENT
END:VCALENDAR