BEGIN:VCALENDAR
VERSION:2.0
PRODID:-//The Bakers Junction - A Marketplace for the Baking Industry - ECPv6.15.20//NONSGML v1.0//EN
CALSCALE:GREGORIAN
METHOD:PUBLISH
X-ORIGINAL-URL:https://thebakersjunction.com
X-WR-CALDESC:Events for The Bakers Junction - A Marketplace for the Baking Industry
REFRESH-INTERVAL;VALUE=DURATION:PT1H
X-Robots-Tag:noindex
X-PUBLISHED-TTL:PT1H
BEGIN:VTIMEZONE
TZID:Asia/Kolkata
BEGIN:STANDARD
TZOFFSETFROM:+0530
TZOFFSETTO:+0530
TZNAME:IST
DTSTART:20230101T000000
END:STANDARD
END:VTIMEZONE
BEGIN:VEVENT
DTSTART;TZID=Asia/Kolkata:20250124T110000
DTEND;TZID=Asia/Kolkata:20250125T170000
DTSTAMP:20260420T205954
CREATED:20250102T145937Z
LAST-MODIFIED:20250102T145939Z
UID:7398-1737716400-1737824400@thebakersjunction.com
SUMMARY:Fondant Cake
DESCRIPTION:
URL:https://thebakersjunction.com/event/fondant-cake/
LOCATION:25- Girdhar Niwas\, 5th Floor\, Colaba Causeway\, Opposite kailash parbat Restaurant\, Mumbai\, Mumbai\, Maharashtra\, India
CATEGORIES:Cakes
ATTACH;FMTTYPE=image/png:https://thebakersjunction.com/wp-content/uploads/2025/01/4.png
ORGANIZER;CN="Gourmet Studio":MAILTO:jyotich2@gmail.com
END:VEVENT
BEGIN:VEVENT
DTSTART;TZID=Asia/Kolkata:20250111T140000
DTEND;TZID=Asia/Kolkata:20250111T180000
DTSTAMP:20260420T205954
CREATED:20250102T150656Z
LAST-MODIFIED:20250102T150657Z
UID:7404-1736604000-1736618400@thebakersjunction.com
SUMMARY:Cake Baking & Icing
DESCRIPTION:January 11\, 2025 2:00 PM - 6:00 PM      \n\n\nPlease log in to your account to submit your enquiry.
URL:https://thebakersjunction.com/event/cake-baking-icing-3/
LOCATION:25- Girdhar Niwas\, 5th Floor\, Colaba Causeway\, Opposite kailash parbat Restaurant\, Mumbai\, Mumbai\, Maharashtra\, India
CATEGORIES:Cakes
ATTACH;FMTTYPE=image/png:https://thebakersjunction.com/wp-content/uploads/2025/01/2.png
ORGANIZER;CN="Gourmet Studio":MAILTO:jyotich2@gmail.com
END:VEVENT
BEGIN:VEVENT
DTSTART;TZID=Asia/Kolkata:20241104T143000
DTEND;TZID=Asia/Kolkata:20241104T180000
DTSTAMP:20260420T205954
CREATED:20241130T092659Z
LAST-MODIFIED:20241130T092701Z
UID:7320-1730730600-1730743200@thebakersjunction.com
SUMMARY:Cake Baking & Icing
DESCRIPTION:January 11\, 2025 2:00 PM - 6:00 PM      \n\n\nPlease log in to your account to submit your enquiry.
URL:https://thebakersjunction.com/event/cake-baking-icing-2/
LOCATION:25- Girdhar Niwas\, 5th Floor\, Colaba Causeway\, Opposite kailash parbat Restaurant\, Mumbai\, Mumbai\, Maharashtra\, India
CATEGORIES:Cakes
ATTACH;FMTTYPE=image/png:https://thebakersjunction.com/wp-content/uploads/2024/11/1.png
ORGANIZER;CN="Gourmet Studio":MAILTO:jyotich2@gmail.com
END:VEVENT
BEGIN:VEVENT
DTSTART;TZID=Asia/Kolkata:20241005T140000
DTEND;TZID=Asia/Kolkata:20241005T180000
DTSTAMP:20260420T205954
CREATED:20240914T091448Z
LAST-MODIFIED:20241130T092242Z
UID:7176-1728136800-1728151200@thebakersjunction.com
SUMMARY:Eggless Cake Baking & Icing
DESCRIPTION:January 11\, 2025 2:00 PM - 6:00 PM      \n\n\nPlease log in to your account to submit your enquiry.
URL:https://thebakersjunction.com/event/eggless-cake-baking-icing/
LOCATION:25- Girdhar Niwas\, 5th Floor\, Colaba Causeway\, Opposite kailash parbat Restaurant\, Mumbai\, Mumbai\, Maharashtra\, India
CATEGORIES:Cakes
ATTACH;FMTTYPE=image/png:https://thebakersjunction.com/wp-content/uploads/2024/09/1-1.png
ORGANIZER;CN="Gourmet Studio":MAILTO:jyotich2@gmail.com
END:VEVENT
BEGIN:VEVENT
DTSTART;TZID=Asia/Kolkata:20240906T140000
DTEND;TZID=Asia/Kolkata:20240906T180000
DTSTAMP:20260420T205954
CREATED:20240914T090344Z
LAST-MODIFIED:20240914T090347Z
UID:7168-1725631200-1725645600@thebakersjunction.com
SUMMARY:Eggless Cheese Cakes
DESCRIPTION:January 11\, 2025 2:00 PM - 6:00 PM      \n\n\nPlease log in to your account to submit your enquiry.
URL:https://thebakersjunction.com/event/eggless-cheese-cakes/
LOCATION:25- Girdhar Niwas\, 5th Floor\, Colaba Causeway\, Opposite kailash parbat Restaurant\, Mumbai\, Mumbai\, Maharashtra\, India
CATEGORIES:Cakes
ATTACH;FMTTYPE=image/png:https://thebakersjunction.com/wp-content/uploads/2024/09/1.png
ORGANIZER;CN="Gourmet Studio":MAILTO:jyotich2@gmail.com
END:VEVENT
BEGIN:VEVENT
DTSTART;TZID=Asia/Kolkata:20240803T140000
DTEND;TZID=Asia/Kolkata:20240803T170000
DTSTAMP:20260420T205954
CREATED:20240801T151214Z
LAST-MODIFIED:20240801T151216Z
UID:7038-1722693600-1722704400@thebakersjunction.com
SUMMARY:Low-Cal Nutritious Cakes
DESCRIPTION:January 11\, 2025 2:00 PM - 6:00 PM      \n\n\nPlease log in to your account to submit your enquiry.
URL:https://thebakersjunction.com/event/low-cal-nutritious-cakes-2/
LOCATION:25- Girdhar Niwas\, 5th Floor\, Colaba Causeway\, Opposite kailash parbat Restaurant\, Mumbai\, Mumbai\, Maharashtra\, India
CATEGORIES:Cakes
ATTACH;FMTTYPE=image/png:https://thebakersjunction.com/wp-content/uploads/2024/08/Low-Cal-3rd-aug.png
ORGANIZER;CN="Gourmet Studio":MAILTO:jyotich2@gmail.com
END:VEVENT
BEGIN:VEVENT
DTSTART;TZID=Asia/Kolkata:20240720T140000
DTEND;TZID=Asia/Kolkata:20240720T180000
DTSTAMP:20260420T205954
CREATED:20240630T115733Z
LAST-MODIFIED:20240630T115734Z
UID:6962-1721484000-1721498400@thebakersjunction.com
SUMMARY:Cake Baking and Icing
DESCRIPTION:January 11\, 2025 2:00 PM - 6:00 PM      \n\n\nPlease log in to your account to submit your enquiry.
URL:https://thebakersjunction.com/event/cake-baking-and-icing/
LOCATION:25- Girdhar Niwas\, 5th Floor\, Colaba Causeway\, Opposite kailash parbat Restaurant\, Mumbai\, Mumbai\, Maharashtra\, India
CATEGORIES:Cakes,Frosting & Icing
ATTACH;FMTTYPE=image/png:https://thebakersjunction.com/wp-content/uploads/2024/06/3.png
ORGANIZER;CN="Gourmet Studio":MAILTO:jyotich2@gmail.com
END:VEVENT
BEGIN:VEVENT
DTSTART;TZID=Asia/Kolkata:20240525T140000
DTEND;TZID=Asia/Kolkata:20240525T180000
DTSTAMP:20260420T205954
CREATED:20240430T083116Z
LAST-MODIFIED:20240528T035526Z
UID:4515-1716645600-1716660000@thebakersjunction.com
SUMMARY:Cake Baking & Icing Workshop
DESCRIPTION:January 11\, 2025 2:00 PM - 6:00 PM      . \n\n\n\n\n\n\n\n\n\n\n\n\n\n\n\n\n\n\n\n\nPlease log in to your account to submit your enquiry.
URL:https://thebakersjunction.com/event/cake-baking-icing/
LOCATION:25- Girdhar Niwas\, 5th Floor\, Colaba Causeway\, Opposite kailash parbat Restaurant\, Mumbai\, Mumbai\, Maharashtra\, India
CATEGORIES:Cakes
ATTACH;FMTTYPE=image/jpeg:https://thebakersjunction.com/wp-content/uploads/2024/04/WhatsApp-Image-2024-04-29-at-10.49.11-AM.jpeg
ORGANIZER;CN="Gourmet Studio":MAILTO:jyotich2@gmail.com
END:VEVENT
BEGIN:VEVENT
DTSTART;TZID=Asia/Kolkata:20240518T140000
DTEND;TZID=Asia/Kolkata:20240518T170000
DTSTAMP:20260420T205954
CREATED:20240430T085855Z
LAST-MODIFIED:20240517T170915Z
UID:4534-1716040800-1716051600@thebakersjunction.com
SUMMARY:Low-cal & Nutritious Cakes Workshop
DESCRIPTION:January 11\, 2025 2:00 PM - 6:00 PM      . \n\n\n\n\n\n\nPlease log in to your account to submit your enquiry.
URL:https://thebakersjunction.com/event/low-cal-nutritious-cakes/
LOCATION:Maharashtra
CATEGORIES:Cakes
ATTACH;FMTTYPE=image/jpeg:https://thebakersjunction.com/wp-content/uploads/2024/04/WhatsApp-Image-2024-04-29-at-10.49.11-AM-1.jpeg
END:VEVENT
BEGIN:VEVENT
DTSTART;TZID=Asia/Kolkata:20240512T110000
DTEND;TZID=Asia/Kolkata:20240512T120000
DTSTAMP:20260420T205954
CREATED:20240507T122303Z
LAST-MODIFIED:20240528T040129Z
UID:4750-1715511600-1715515200@thebakersjunction.com
SUMMARY:Mother's Day Special - Chocolate Mug Cake Workshop
DESCRIPTION:January 11\, 2025 2:00 PM - 6:00 PM      \n\n\n\n \n\n\n\nMake Mother’s Day extra special with this simple yet delightful Chocolate Mug Cake! \n\n\n\n🍰✨ Kids\, Let’s Surprise Mom! 🌷 \n\n\n\nThis Mother’s Day\, let’s make it extra special! 🎉 Join our FREE Mug Cake Workshop designed just for kids. It’s simple\, fun\, and the perfect way to show mom some love with a delicious treat made by you! 👩‍🍳👦 \n\n\n\n👨‍👧 Dads\, you’re welcome too! Come and help your little chefs whip up something sweet. 🎂 \n\n\n\nBefore joining\, gather these ingredients: \n\n\n\n\nPinch of salt\n\n\n\n3 tablespoons all-purpose flour\n\n\n\n3 tablespoons sugar\n\n\n\n2 tablespoons cocoa powder\n\n\n\n1/4 teaspoon baking powder\n\n\n\n1/8 teaspoon baking soda\n\n\n\n3 tablespoons milk\n\n\n\n2 tablespoons vegetable oil or melted butter\n\n\n\n1/8 teaspoon vanilla extract\n\n\n\n2 tablespoons chocolate chips (optional)\n\n\n\nIce cream or whipped cream for serving (optional)\n\n\n\n\nRemember: A Microwave-Safe Mug is essential! \n\n\n\nLet’s bake a smile this Mother’s Day! 🎉✨ \n\n\n\n\n\n\n\n\nPlease log in to your account to submit your enquiry.
URL:https://thebakersjunction.com/event/mothers-day-special-chocolate-mug-cake-workshop/
LOCATION:Maharashtra
CATEGORIES:Cakes
ATTACH;FMTTYPE=image/png:https://thebakersjunction.com/wp-content/uploads/2024/05/Chocolate-Mug-Cake-Workshop.png
ORGANIZER;CN="The Bakers Junction":MAILTO:thebakersjunction2023@gmail.com
END:VEVENT
BEGIN:VEVENT
DTSTART;TZID=Asia/Kolkata:20240420T140000
DTEND;TZID=Asia/Kolkata:20240420T180000
DTSTAMP:20260420T205954
CREATED:20240404T063219Z
LAST-MODIFIED:20240528T035951Z
UID:3964-1713621600-1713636000@thebakersjunction.com
SUMMARY:Cake Baking & Icing Workshop
DESCRIPTION:January 11\, 2025 2:00 PM - 6:00 PM      \n\n\nPlease log in to your account to submit your enquiry.
URL:https://thebakersjunction.com/event/cake-baking-icing-workshop/
LOCATION:25- Girdhar Niwas\, 5th Floor\, Colaba Causeway\, Opposite kailash parbat Restaurant\, Mumbai\, Mumbai\, Maharashtra\, India
CATEGORIES:Cakes
ATTACH;FMTTYPE=image/jpeg:https://thebakersjunction.com/wp-content/uploads/2024/04/WhatsApp-Image-2024-04-04-at-10.24.52-AM-1-3.jpeg
ORGANIZER;CN="Gourmet Studio":MAILTO:jyotich2@gmail.com
END:VEVENT
BEGIN:VEVENT
DTSTART;TZID=Asia/Kolkata:20240414T140000
DTEND;TZID=Asia/Kolkata:20240414T170000
DTSTAMP:20260420T205954
CREATED:20240404T062722Z
LAST-MODIFIED:20240411T124400Z
UID:3960-1713103200-1713114000@thebakersjunction.com
SUMMARY:Low-cal & Nutritious Cakes Workshop
DESCRIPTION:Please log in to your account to submit your enquiry.
URL:https://thebakersjunction.com/event/low-cal-nutritious-cakes-workshop/
LOCATION:25- Girdhar Niwas\, 5th Floor\, Colaba Causeway\, Opposite kailash parbat Restaurant\, Mumbai\, Mumbai\, Maharashtra\, India
CATEGORIES:Cakes
ATTACH;FMTTYPE=image/jpeg:https://thebakersjunction.com/wp-content/uploads/2024/04/WhatsApp-Image-2024-04-04-at-10.24.52-AM-2-1.jpeg
ORGANIZER;CN="Gourmet Studio":MAILTO:jyotich2@gmail.com
END:VEVENT
END:VCALENDAR